BEGIN:VCALENDAR
PRODID:NingEventWidget-v1
VERSION:2.0
METHOD:PUBLISH
BEGIN:VEVENT
UID:6395259:Event:20499
DTSTAMP:20260422T151043Z
SUMMARY:VI Fórum Inovação, Agricultura e Alimentos
DESCRIPTION:\n\nPara mais informações, visite https://redeagronomia.
 org.br/events/vi-forum-inovacao-agricultura-e-alimentos
DTSTART:20141114T210000Z
DTEND:20141114T220000Z
CATEGORIES:fórum, inovação
LOCATION:São Paulo - SP
WEBSITE:http://www.forumagriculturaealimentos.org.br/
URL:http://www.forumagriculturaealimentos.org.br/
CONTACT:
ORGANIZER:PROLE
ATTACH;FMTTYPE="image/jpeg":http://storage.ning.com/topology/rest/1.0/
 file/get/1687782448?profile=original
ATTENDEE;ROLE=REQ-PARTICIPANT;PARTSTAT=ACCEPTED;RSVP=TRUE;CN="Flávio 
 Pompei":https://redeagronomia.org.br/profile/FlavioPompei
ATTENDEE;ROLE=REQ-PARTICIPANT;PARTSTAT=ACCEPTED;RSVP=TRUE;CN="Soc. Min
 eira de Eng. Agrônomos":https://redeagronomia.org.br/profile/1s8usd0t
 wq2t9
END:VEVENT
END:VCALENDAR
