BEGIN:VCALENDAR
PRODID:NingEventWidget-v1
VERSION:2.0
METHOD:PUBLISH
BEGIN:VEVENT
UID:6395259:Event:18765
DTSTAMP:20260422T170802Z
SUMMARY:V Congresso Brasileiro de Gestão Ambiental
DESCRIPTION:Sobre o Congresso: Em 2014, o ConGeA – Congresso Brasil
 eiro de Gestão Ambiental apresenta sua 5ª edição. O evento será r
 ealizado no período de 24 a 27 de novembro no Centro Universitário M
 etodista Izabela Hendrix, Campus Praça da Liberdade, em Belo Horizont
 e – MG. Neste ano, o tema central será “Gestão Ambiental – Aç
 ões e Comportamento”\nInscrições: Interessados em realizar a ins
 crição no V CONGRESSO BRASILEIRO DE GESTÃO AMBIENTAL devem acessar 
 o website oficial do evento e preencher o formulário on line\nConta
 to: Mais informações sobre o ConGeA 2014 podem ser obtidas através
  do e-mail: congresso@ibeas.org.br\n\nPara mais informações, visite 
 https://redeagronomia.org.br/events/v-congresso-brasileiro-de-gestao-a
 mbiental
DTSTART:20141124T030000Z
DTEND:20141128T025900Z
CATEGORIES:v, congresso
LOCATION:Belo Horizonte - MG
WEBSITE:http://www.ibeas.org.br/congresso5/
URL:http://www.ibeas.org.br/congresso5/
CONTACT:
ORGANIZER:Centro Universitário Metodista Izabela Hendrix
ATTACH;FMTTYPE="image/jpeg":http://storage.ning.com/topology/rest/1.0/
 file/get/1687782794?profile=original
ATTENDEE;ROLE=REQ-PARTICIPANT;PARTSTAT=ACCEPTED;RSVP=TRUE;CN="Soc. Min
 eira de Eng. Agrônomos":https://redeagronomia.org.br/profile/1s8usd0t
 wq2t9
END:VEVENT
END:VCALENDAR
