BEGIN:VCALENDAR
PRODID:NingEventWidget-v1
VERSION:2.0
METHOD:PUBLISH
BEGIN:VEVENT
UID:6395259:Event:28023
DTSTAMP:20260422T130316Z
SUMMARY:SeminÃ¡rio TributaÃ§Ã£o no AgronegÃ³cio
DESCRIPTION:O seminÃ¡rio sobre TributaÃ§Ã£o no AgronegÃ³cio serÃ¡ ofer
 ecido com o mesmo conteÃºdo em duas datas diversas a escolha do aluno.
 \nO preÃ§o discriminado Ã© para cada seminÃ¡rio, podendo ser efetuado 
 atravÃ©s de boleto bancÃ¡rio, depÃ³sito em conta, paypal ou pagseguro.
 \nNosso conteÃºdo programÃ¡tico inclui os principais tributos incident
 es nas empresas do agronegÃ³cio , tributaÃ§Ã£o e a formaÃ§Ã£o de preÃ§
 os da empresa, encargos sobre salÃ¡rios pagos pela empresa e a dimensÃ
 £o da carga tributÃ¡ria sobre a cadeias do agronegÃ³cio.\nVisÃ£o siste
 matizada, o qual serÃ¡ apostilado\n\nPara mais informaÃ§Ãµes, visite h
 ttps://redeagronomia.org.br/events/seminario-tributacao-no-agronegocio
DTSTART:20150826T020000Z
DTEND:20150903T015900Z
CATEGORIES:seminÃ¡rio
LOCATION:SÃ£o Paulo - SP
WEBSITE:http://agron.com.br/publicacoes/informacoes/eventos-e-lazer/20
 15/07/24/045033/tributacao-no-agronegocio.html?utm_source=Informativo+
 Portal+Agron&utm_campaign=5aea30b8b2-Informativo_144_Helicoverpa_armig
 era_8_10_2015&utm_medium=email&utm_term=0_423fc18069-5aea30b8b2-398530
 621
URL:http://agron.com.br/publicacoes/informacoes/eventos-e-lazer/2015/0
 7/24/045033/tributacao-no-agronegocio.html?utm_source=Informativo+Port
 al+Agron&utm_campaign=5aea30b8b2-Informativo_144_Helicoverpa_armigera_
 8_10_2015&utm_medium=email&utm_term=0_423fc18069-5aea30b8b2-398530621
CONTACT:
ORGANIZER:blawcursos
ATTACH;FMTTYPE="image/jpeg":http://storage.ning.com/topology/rest/1.0/
 file/get/1687784828?profile=original
ATTENDEE;ROLE=REQ-PARTICIPANT;PARTSTAT=ACCEPTED;RSVP=TRUE;CN="Soc. Min
 eira de Eng. AgrÃ´nomos":https://redeagronomia.org.br/profile/1s8usd0t
 wq2t9
END:VEVENT
END:VCALENDAR
