BEGIN:VCALENDAR
PRODID:NingEventWidget-v1
VERSION:2.0
METHOD:PUBLISH
BEGIN:VEVENT
UID:6395259:Event:452266
DTSTAMP:20260420T050747Z
SUMMARY:SAETHON - DESAFIO SOLO, ÁGUA E ESTRADAS VICINAIS - MESA REDON
 DA - EVENTO INTRODUTÓRIO
DESCRIPTION:Clique e inscreva-se\n\nPara mais informações, visite ht
 tps://redeagronomia.org.br/events/saethon-desafio-solo-agua-e-estradas
 -vicinais-mesa-redonda-evento
DTSTART:20221010T160000Z
DTEND:20221010T180000Z
CATEGORIES:mesa, redonda
LOCATION:SMEA
WEBSITE:https://www.sympla.com.br/evento-online/saethon-desafio-solo-a
 gua-e-estradas-vicinais-mesa-redonda-evento-introdutorio/1741594
URL:https://www.sympla.com.br/evento-online/saethon-desafio-solo-agua-
 e-estradas-vicinais-mesa-redonda-evento-introdutorio/1741594
CONTACT:
ORGANIZER;CN="Soc. Mineira de Eng. Agrônomos":https://redeagronomia.o
 rg.br/profile/1s8usd0twq2t9
ATTACH;FMTTYPE="image/jpeg":
ATTENDEE;ROLE=REQ-PARTICIPANT;PARTSTAT=ACCEPTED;RSVP=TRUE;CN="José Fl
 ávio Mesquita":https://redeagronomia.org.br/profile/JoseFlavioMesquit
 a
ATTENDEE;ROLE=REQ-PARTICIPANT;PARTSTAT=ACCEPTED;RSVP=TRUE;CN="altair r
 oberto de carvlho":https://redeagronomia.org.br/profile/altairrobertod
 ecarvlho
ATTENDEE;ROLE=REQ-PARTICIPANT;PARTSTAT=ACCEPTED;RSVP=TRUE;CN="Fátima 
 E Fernandes Brito":https://redeagronomia.org.br/profile/FatimaEFernand
 esBrito
ATTENDEE;ROLE=REQ-PARTICIPANT;PARTSTAT=ACCEPTED;RSVP=TRUE;CN="Soc. Min
 eira de Eng. Agrônomos":https://redeagronomia.org.br/profile/1s8usd0t
 wq2t9
END:VEVENT
END:VCALENDAR
