BEGIN:VCALENDAR
PRODID:NingEventWidget-v1
VERSION:2.0
METHOD:PUBLISH
BEGIN:VEVENT
UID:6395259:Event:23375
DTSTAMP:20260422T164453Z
SUMMARY:IV Simpósio de Mudanças Climáticas e Desertificação no Se
 miárido Brasileiro
DESCRIPTION:No período de 19 a 21 de maio de 2015 ocorrerá o *IV Si
 mpósio de Mudanças Climáticas e Desertificação no Semiárido Bras
 ileiro *, na Embrapa Semiárido, em Petrolina-PE. O prazo para o envi
 o de resumos será até 10 de dezembro de 2014.Maiores informações 
 poderão ser obtidas na página do evento http://www.ivsmud.com.br\n\
 nPara mais informações, visite https://redeagronomia.org.br/events/i
 v-simposio-de-mudancas-climaticas-e-desertificacao-no-semiarido-
DTSTART:20150519T020000Z
DTEND:20150522T015900Z
CATEGORIES:simpósio
LOCATION:Embrapa Semiárido, em Petrolina-PE
WEBSITE:
URL:
CONTACT:http://www.cpatsa.embrapa.br/smud/
ORGANIZER:Embrapa Semiárido
ATTACH;FMTTYPE="image/jpeg":
ATTENDEE;ROLE=REQ-PARTICIPANT;PARTSTAT=ACCEPTED;RSVP=TRUE;CN="Soc. Min
 eira de Eng. Agrônomos":https://redeagronomia.org.br/profile/1s8usd0t
 wq2t9
ATTENDEE;ROLE=REQ-PARTICIPANT;PARTSTAT=TENTATIVE;RSVP=TRUE;CN="altair 
 roberto de carvlho":https://redeagronomia.org.br/profile/altairroberto
 decarvlho
END:VEVENT
END:VCALENDAR
