BEGIN:VCALENDAR
PRODID:NingEventWidget-v1
VERSION:2.0
METHOD:PUBLISH
BEGIN:VEVENT
UID:6395259:Event:19755
DTSTAMP:20260422T151321Z
SUMMARY:Inscrições para o Mestrado Profissional em Defesa Sanitária
  Vegetal
DESCRIPTION:Mestrado Profissional em Defesa Sanitária Vegetal\nA Univ
 ersidade Federal de Viçosa divulgou o calendário para inscrição no
  processo seletivo para ingresso no primeiro semestre de 2015: de 1 de
  outubro a 24 de novembro de 2014. Para mais informações, acesse ww
 w.mpdefesa.ufv.br ou envie uma mensagem para mpdefesa@ufv.br\n\nPara
  mais informações, visite https://redeagronomia.org.br/events/inscri
 coes-para-o-mestrado-profissional-em-defesa-sanitaria-veget
DTSTART:20141001T020000Z
DTEND:20141125T025900Z
CATEGORIES:mestrado
LOCATION:Universidade Federal de Viçosa (UFV)
WEBSITE:http://www.mpdefesa.ufv.br/mpdefesa@ufv.br
URL:http://www.mpdefesa.ufv.br/mpdefesa@ufv.br
CONTACT:
ORGANIZER:UFV, Agropec
ATTACH;FMTTYPE="image/jpeg":
ATTENDEE;ROLE=REQ-PARTICIPANT;PARTSTAT=ACCEPTED;RSVP=TRUE;CN="Soc. Min
 eira de Eng. Agrônomos":https://redeagronomia.org.br/profile/1s8usd0t
 wq2t9
END:VEVENT
END:VCALENDAR
