BEGIN:VCALENDAR
PRODID:NingEventWidget-v1
VERSION:2.0
METHOD:PUBLISH
BEGIN:VEVENT
UID:6395259:Event:20938
DTSTAMP:20260422T145354Z
SUMMARY:CURSO PRESCRIÇÃO DE AGROTÓXICO - NOVA ABORDAGEM
DESCRIPTION:A legislação brasileira exige que, ao emitir o receituá
 rio agronômico, o profissional ao identificar a necessidade de recom
 endar o uso de agrotóxico emita uma receita.\n\nNeste curso, será a
 presentada uma abordagem crítica para orientar a prescrição do rec
 eituário agronômico, onde prevalecerão os conceitos agronômicos, 
 a preservação á saúde e a minimização do impacto ambiental.\n\nA
 o final será detalhado o preenchimento da ART específica do Receitu
 ário Agronômico.\n\nValor: R$ 250,00\n\nPara mais informações, vi
 site https://redeagronomia.org.br/events/curso-prescricao-de-agrotoxic
 o-nova-abordagem
DTSTART:20141013T020000Z
DTEND:20141014T015900Z
CATEGORIES:curso
LOCATION:CREA-MG
WEBSITE:http://smea.org.br/smea/evento.jsf?prl_code=118
URL:http://smea.org.br/smea/evento.jsf?prl_code=118
CONTACT:(31) 3337-8139
ORGANIZER;CN="Soc. Mineira de Eng. Agrônomos":https://redeagronomia.o
 rg.br/profile/1s8usd0twq2t9
ATTACH;FMTTYPE="image/jpeg":http://storage.ning.com/topology/rest/1.0/
 file/get/1687783481?profile=original
ATTENDEE;ROLE=REQ-PARTICIPANT;PARTSTAT=ACCEPTED;RSVP=TRUE;CN="Soc. Min
 eira de Eng. Agrônomos":https://redeagronomia.org.br/profile/1s8usd0t
 wq2t9
END:VEVENT
END:VCALENDAR
