BEGIN:VCALENDAR
PRODID:NingEventWidget-v1
VERSION:2.0
METHOD:PUBLISH
BEGIN:VEVENT
UID:6395259:Event:13109
DTSTAMP:20260422T150901Z
SUMMARY:Curso: Ameaças Fitossanitárias
DESCRIPTION:Começa: Quinta, 24 de outubro de 2013, 08h Termina: Sext
 a, 25 de outubro de 2013, 18h Local: Belo Horizonte, MG\n \nApresent
 ação\nCom a globalização e consequente aumento de trânsito de pes
 soas e de produtos, a disseminação de pragas agrícolas foi facilita
 da. No século XX, pelo menos 32 espécies foram introduzidas oriundas
  de várias partes do mundo e se estabeleceram no Brasil como pragas d
 e cultivos importantes como algodão, soja, milho, hortícolas, citros
 , etc. Entretanto, nos primeiros 13 anos do século XXI, 31 espécies 
 exóticas foram detectadas no Brasil, algumas das quais com prejuízos
  expressivos, tais como a ferrugem asiática da soja, a ferrugem alara
 njada da cana-de-açúcar e, mais recentemente, a lagarta helicoverpa.
  Neste curso teórico-prático, será apresentada uma revisão dos con
 ceitos sobre defesa sanitária vegetal, os acordos que regem o comérc
 io internacional de plantas, suas partes e produtos. Serão repassados
 , também, métodos para pesquisa e compilação de informações nece
 ssárias para avaliar o grau de perigo que determinadas espécies exó
 ticas representam para a agricultura brasileira. \nConfira que espéc
 ies foram introduzidas no Brasil e se tornaram pragas agrícolas\n \n
 Objetivos do curso:\nProver atualização sobre pragas quarentenárias
 ;Desenvolver habilidades na busca de informações sobre ameaças fito
 ssanitárias para setores de interesse para os participantes;Estimular
  uma visão mais estratégica da defesa vegetal.\n \nPúblico-alvo: 
 \nProfissionais de nível superior das áreas de Ciências Agrárias e
  Ciências Biológicas, com atuação na área de Defesa Vegetal\n \n
 Conteúdo resumido: \nHistórico de introdução de pragas agrícolas
  no BrasilAcordo de Medidas Sanitárias e FitossanitáriasAtribuiçõe
 s federais, estaduais e privadasAnálise de Risco de Pragas (levantame
 nto de dados, avaliação de risco)Pragas quarentenáriasPesquisa onli
 ne em bases de dados Exercícios práticos: ameaças fitossanitárias
  para cadeias produtivas de interesse para os participantes\n \nInstr
 utores:\nDra. Regina Lúcia Sugayama\nEng. Agr. Andrea Ramos Stancioli
 \nBiól. Giliardi Anício Alves\n \nCarga horária:  \n16 horas\n \
 nLocal: \nBelo Horizonte, MG (endereço a definir)\n \nInvestimento:
  \nR$ 900,00 por participante, com desconto de 10% para 3 ou mais pro
 fissionais da mesma instituição. \n \nFormas de pagamento:\nTransf
 erência bancária, cartão de crédito, boleto bancário ou carta de 
 empenho.\n \nObservações:\n- Os participantes deverão trazer noteb
 ooks próprios para realização dos exercícios individualmente.\n- A
  realização do curso está condicionada ao preenchimento de um núme
 ro mínimo de inscrições.\n- Consulte-nos também sobre cursos ‘in
  company’.\n \nImportante:\nPara solicitar sua nota fiscal em nome 
 de pessoa jurídica, envie uma mensagem para consultoria@defesaagrope
 cuaria.com com os seguintes dados:Razão social Endereço completo, 
 Cidade e UF, CEPCNPJ, Inscrição estadual, Inscrição municipal E
 ndereço para envio da nota fiscal, se diferente do endereço informad
 o acima\nNa ausência de recebimento de dados de pessoa jurídica no p
 razo de sete dias antes do curso, a nota fiscal será emitida em nome 
 da pessoa que efetuou a inscrição.\n \n\nPara mais informações, v
 isite https://redeagronomia.org.br/events/curso-ameacas-fitossanitaria
 s
DTSTART:20131024T020000Z
DTEND:20131026T015900Z
CATEGORIES:curso
LOCATION:Belo Horizonte
WEBSITE:http://cursos.defesaagropecuaria.com/
URL:http://cursos.defesaagropecuaria.com/
CONTACT:3466-2161
ORGANIZER:Agropec
ATTACH;FMTTYPE="image/jpeg":http://storage.ning.com/topology/rest/1.0/
 file/get/1687780765?profile=original
ATTENDEE;ROLE=REQ-PARTICIPANT;PARTSTAT=ACCEPTED;RSVP=TRUE;CN="Soc. Min
 eira de Eng. Agrônomos":https://redeagronomia.org.br/profile/1s8usd0t
 wq2t9
END:VEVENT
END:VCALENDAR
